BEGIN:VCALENDAR
VERSION:2.0
PRODID:-//ExpressionEngine Easy iCalendar plugin//NONSGML v2.0.0//EN
X-WR-TIMEZONE:America/New_York
X-WR-CALNAME:Upcoming Auctions
BEGIN:VEVENT
UID:158094
DTSTAMP:20260421T101106
DTSTART:20260421T101106
DTEND:19691231T200000
SUMMARY:UPCOMING ECLECTIC MODERNISM
LOCATION:{location}
DESCRIPTION:UPCOMING ECLECTIC MODERNISM
URL:https://www.beckestates.com/auctions/detail/bw158094
SEQUENCE:1
END:VEVENT
END:VCALENDAR