BEGIN:VCALENDAR
VERSION:2.0
PRODID:-//ExpressionEngine Easy iCalendar plugin//NONSGML v2.0.0//EN
X-WR-TIMEZONE:America/New_York
X-WR-CALNAME:Upcoming Auctions
BEGIN:VEVENT
UID:99693
DTSTAMP:20230426T154900
DTSTART:20230426T154900
DTEND:20230508T190000
SUMMARY:CURATED 10 multi consignor
LOCATION:{location}
DESCRIPTION:CURATED 10 multi consignor 
URL:https://www.beckestates.com/auctions/detail/bw99693
SEQUENCE:1
END:VEVENT
END:VCALENDAR